BEGIN:VCALENDAR
VERSION:2.0
PRODID:-//Tecnogus//Calendario Mundial 2026//ES
CALSCALE:GREGORIAN
METHOD:PUBLISH
BEGIN:VEVENT
SUMMARY:México vs. Sudáfrica
DTSTART;TZID=America/Bogota:20260611T140000
DTEND;TZID=America/Bogota:20260611T160000
LOCATION:Estadio Ciudad de México
DESCRIPTION:Primera fase - Grupo A
END:VEVENT
BEGIN:VEVENT
SUMMARY:República de Corea vs. Chequia
DTSTART;TZID=America/Bogota:20260611T210000
DTEND;TZID=America/Bogota:20260611T230000
LOCATION:Estadio Guadalajara
DESCRIPTION:Primera fase - Grupo A
END:VEVENT
BEGIN:VEVENT
SUMMARY:Canadá vs. Bosnia y Herzegovina
DTSTART;TZID=America/Bogota:20260612T140000
DTEND;TZID=America/Bogota:20260612T160000
LOCATION:Estadio de Toronto
DESCRIPTION:Primera fase - Grupo B
END:VEVENT
BEGIN:VEVENT
SUMMARY:EE. UU. vs. Paraguay
DTSTART;TZID=America/Bogota:20260612T200000
DTEND;TZID=America/Bogota:20260612T220000
LOCATION:Estadio Los Angeles
DESCRIPTION:Primera fase - Grupo D
END:VEVENT
BEGIN:VEVENT
SUMMARY:Catar vs. Suiza
DTSTART;TZID=America/Bogota:20260613T140000
DTEND;TZID=America/Bogota:20260613T160000
LOCATION:Estadio de la Bahía de San Francisco
DESCRIPTION:Primera fase - Grupo B
END:VEVENT
BEGIN:VEVENT
SUMMARY:Brasil vs. Marruecos
DTSTART;TZID=America/Bogota:20260613T170000
DTEND;TZID=America/Bogota:20260613T190000
LOCATION:Estadio Nueva York/Nueva Jersey
DESCRIPTION:Primera fase - Grupo C
END:VEVENT
BEGIN:VEVENT
SUMMARY:Haití vs. Escocia
DTSTART;TZID=America/Bogota:20260613T200000
DTEND;TZID=America/Bogota:20260613T220000
LOCATION:Estadio Boston
DESCRIPTION:Primera fase - Grupo C
END:VEVENT
BEGIN:VEVENT
SUMMARY:Australia vs. Turquía
DTSTART;TZID=America/Bogota:20260613T230000
DTEND;TZID=America/Bogota:20260614T010000
LOCATION:Estadio BC Place Vancouver
DESCRIPTION:Primera fase - Grupo D
END:VEVENT
BEGIN:VEVENT
SUMMARY:Alemania vs. Curazao
DTSTART;TZID=America/Bogota:20260614T120000
DTEND;TZID=America/Bogota:20260614T140000
LOCATION:Estadio Houston
DESCRIPTION:Primera fase - Grupo E
END:VEVENT
BEGIN:VEVENT
SUMMARY:Países Bajos vs. Japón
DTSTART;TZID=America/Bogota:20260614T150000
DTEND;TZID=America/Bogota:20260614T170000
LOCATION:Estadio Dallas
DESCRIPTION:Primera fase - Grupo F
END:VEVENT
BEGIN:VEVENT
SUMMARY:Costa de Marfil vs. Ecuador
DTSTART;TZID=America/Bogota:20260614T180000
DTEND;TZID=America/Bogota:20260614T200000
LOCATION:Estadio Filadelfia
DESCRIPTION:Primera fase - Grupo E
END:VEVENT
BEGIN:VEVENT
SUMMARY:Suecia vs. Túnez
DTSTART;TZID=America/Bogota:20260614T210000
DTEND;TZID=America/Bogota:20260614T230000
LOCATION:Estadio Monterrey
DESCRIPTION:Primera fase - Grupo F
END:VEVENT
BEGIN:VEVENT
SUMMARY:España vs. Islas de Cabo Verde
DTSTART;TZID=America/Bogota:20260615T110000
DTEND;TZID=America/Bogota:20260615T130000
LOCATION:Estadio Atlanta
DESCRIPTION:Primera fase - Grupo H
END:VEVENT
BEGIN:VEVENT
SUMMARY:Bélgica vs. Egipto
DTSTART;TZID=America/Bogota:20260615T140000
DTEND;TZID=America/Bogota:20260615T160000
LOCATION:Estadio de Seattle
DESCRIPTION:Primera fase - Grupo G
END:VEVENT
BEGIN:VEVENT
SUMMARY:Arabia Saudí vs. Uruguay
DTSTART;TZID=America/Bogota:20260615T170000
DTEND;TZID=America/Bogota:20260615T190000
LOCATION:Estadio Miami
DESCRIPTION:Primera fase - Grupo H
END:VEVENT
BEGIN:VEVENT
SUMMARY:RI de Irán vs. Nueva Zelanda
DTSTART;TZID=America/Bogota:20260615T200000
DTEND;TZID=America/Bogota:20260615T220000
LOCATION:Estadio Los Angeles
DESCRIPTION:Primera fase - Grupo G
END:VEVENT
BEGIN:VEVENT
SUMMARY:Francia vs. Senegal
DTSTART;TZID=America/Bogota:20260616T140000
DTEND;TZID=America/Bogota:20260616T160000
LOCATION:Estadio Nueva York/Nueva Jersey
DESCRIPTION:Primera fase - Grupo I
END:VEVENT
BEGIN:VEVENT
SUMMARY:Irak vs. Noruega
DTSTART;TZID=America/Bogota:20260616T170000
DTEND;TZID=America/Bogota:20260616T190000
LOCATION:Estadio Boston
DESCRIPTION:Primera fase - Grupo I
END:VEVENT
BEGIN:VEVENT
SUMMARY:Argentina vs. Argelia
DTSTART;TZID=America/Bogota:20260616T200000
DTEND;TZID=America/Bogota:20260616T220000
LOCATION:Estadio Kansas City
DESCRIPTION:Primera fase - Grupo J
END:VEVENT
BEGIN:VEVENT
SUMMARY:Austria vs. Jordania
DTSTART;TZID=America/Bogota:20260616T230000
DTEND;TZID=America/Bogota:20260617T010000
LOCATION:Estadio de la Bahía de San Francisco
DESCRIPTION:Primera fase - Grupo J
END:VEVENT
BEGIN:VEVENT
SUMMARY:Portugal vs. RD Congo
DTSTART;TZID=America/Bogota:20260617T120000
DTEND;TZID=America/Bogota:20260617T140000
LOCATION:Estadio Houston
DESCRIPTION:Primera fase - Grupo K
END:VEVENT
BEGIN:VEVENT
SUMMARY:Inglaterra vs. Croacia
DTSTART;TZID=America/Bogota:20260617T150000
DTEND;TZID=America/Bogota:20260617T170000
LOCATION:Estadio Dallas
DESCRIPTION:Primera fase - Grupo L
END:VEVENT
BEGIN:VEVENT
SUMMARY:Ghana vs. Panamá
DTSTART;TZID=America/Bogota:20260617T180000
DTEND;TZID=America/Bogota:20260617T200000
LOCATION:Estadio de Toronto
DESCRIPTION:Primera fase - Grupo L
END:VEVENT
BEGIN:VEVENT
SUMMARY:Uzbekistán vs. Colombia
DTSTART;TZID=America/Bogota:20260617T210000
DTEND;TZID=America/Bogota:20260617T230000
LOCATION:Estadio Ciudad de México
DESCRIPTION:Primera fase - Grupo K
END:VEVENT
BEGIN:VEVENT
SUMMARY:Chequia vs. Sudáfrica
DTSTART;TZID=America/Bogota:20260618T110000
DTEND;TZID=America/Bogota:20260618T130000
LOCATION:Estadio Atlanta
DESCRIPTION:Primera fase - Grupo A
END:VEVENT
BEGIN:VEVENT
SUMMARY:Suiza vs. Bosnia y Herzegovina
DTSTART;TZID=America/Bogota:20260618T140000
DTEND;TZID=America/Bogota:20260618T160000
LOCATION:Estadio Los Angeles
DESCRIPTION:Primera fase - Grupo B
END:VEVENT
BEGIN:VEVENT
SUMMARY:Canadá vs. Catar
DTSTART;TZID=America/Bogota:20260618T170000
DTEND;TZID=America/Bogota:20260618T190000
LOCATION:Estadio BC Place Vancouver
DESCRIPTION:Primera fase - Grupo B
END:VEVENT
BEGIN:VEVENT
SUMMARY:México vs. República de Corea
DTSTART;TZID=America/Bogota:20260618T200000
DTEND;TZID=America/Bogota:20260618T220000
LOCATION:Estadio Guadalajara
DESCRIPTION:Primera fase - Grupo A
END:VEVENT
BEGIN:VEVENT
SUMMARY:EE. UU. vs. Australia
DTSTART;TZID=America/Bogota:20260619T140000
DTEND;TZID=America/Bogota:20260619T160000
LOCATION:Estadio de Seattle
DESCRIPTION:Primera fase - Grupo D
END:VEVENT
BEGIN:VEVENT
SUMMARY:Escocia vs. Marruecos
DTSTART;TZID=America/Bogota:20260619T170000
DTEND;TZID=America/Bogota:20260619T190000
LOCATION:Estadio Boston
DESCRIPTION:Primera fase - Grupo C
END:VEVENT
BEGIN:VEVENT
SUMMARY:Brasil vs. Haití
DTSTART;TZID=America/Bogota:20260619T193000
DTEND;TZID=America/Bogota:20260619T213000
LOCATION:Estadio Filadelfia
DESCRIPTION:Primera fase - Grupo C
END:VEVENT
BEGIN:VEVENT
SUMMARY:Turquía vs. Paraguay
DTSTART;TZID=America/Bogota:20260619T220000
DTEND;TZID=America/Bogota:20260620T000000
LOCATION:Estadio de la Bahía de San Francisco
DESCRIPTION:Primera fase - Grupo D
END:VEVENT
BEGIN:VEVENT
SUMMARY:Países Bajos vs. Suecia
DTSTART;TZID=America/Bogota:20260620T120000
DTEND;TZID=America/Bogota:20260620T140000
LOCATION:Estadio Houston
DESCRIPTION:Primera fase - Grupo F
END:VEVENT
BEGIN:VEVENT
SUMMARY:Alemania vs. Costa de Marfil
DTSTART;TZID=America/Bogota:20260620T150000
DTEND;TZID=America/Bogota:20260620T170000
LOCATION:Estadio de Toronto
DESCRIPTION:Primera fase - Grupo E
END:VEVENT
BEGIN:VEVENT
SUMMARY:Ecuador vs. Curazao
DTSTART;TZID=America/Bogota:20260620T190000
DTEND;TZID=America/Bogota:20260620T210000
LOCATION:Estadio Kansas City
DESCRIPTION:Primera fase - Grupo E
END:VEVENT
BEGIN:VEVENT
SUMMARY:Túnez vs. Japón
DTSTART;TZID=America/Bogota:20260620T230000
DTEND;TZID=America/Bogota:20260621T010000
LOCATION:Estadio Monterrey
DESCRIPTION:Primera fase - Grupo F
END:VEVENT
BEGIN:VEVENT
SUMMARY:España vs. Arabia Saudí
DTSTART;TZID=America/Bogota:20260621T110000
DTEND;TZID=America/Bogota:20260621T130000
LOCATION:Estadio Atlanta
DESCRIPTION:Primera fase - Grupo H
END:VEVENT
BEGIN:VEVENT
SUMMARY:Bélgica vs. RI de Irán
DTSTART;TZID=America/Bogota:20260621T140000
DTEND;TZID=America/Bogota:20260621T160000
LOCATION:Estadio Los Angeles
DESCRIPTION:Primera fase - Grupo G
END:VEVENT
BEGIN:VEVENT
SUMMARY:Uruguay vs. Islas de Cabo Verde
DTSTART;TZID=America/Bogota:20260621T170000
DTEND;TZID=America/Bogota:20260621T190000
LOCATION:Estadio Miami
DESCRIPTION:Primera fase - Grupo H
END:VEVENT
BEGIN:VEVENT
SUMMARY:Nueva Zelanda vs. Egipto
DTSTART;TZID=America/Bogota:20260621T200000
DTEND;TZID=America/Bogota:20260621T220000
LOCATION:Estadio BC Place Vancouver
DESCRIPTION:Primera fase - Grupo G
END:VEVENT
BEGIN:VEVENT
SUMMARY:Argentina vs. Austria
DTSTART;TZID=America/Bogota:20260622T120000
DTEND;TZID=America/Bogota:20260622T140000
LOCATION:Estadio Dallas
DESCRIPTION:Primera fase - Grupo J
END:VEVENT
BEGIN:VEVENT
SUMMARY:Francia vs. Irak
DTSTART;TZID=America/Bogota:20260622T160000
DTEND;TZID=America/Bogota:20260622T180000
LOCATION:Estadio Filadelfia
DESCRIPTION:Primera fase - Grupo I
END:VEVENT
BEGIN:VEVENT
SUMMARY:Noruega vs. Senegal
DTSTART;TZID=America/Bogota:20260622T190000
DTEND;TZID=America/Bogota:20260622T210000
LOCATION:Estadio Nueva York/Nueva Jersey
DESCRIPTION:Primera fase - Grupo I
END:VEVENT
BEGIN:VEVENT
SUMMARY:Jordania vs. Argelia
DTSTART;TZID=America/Bogota:20260622T220000
DTEND;TZID=America/Bogota:20260623T000000
LOCATION:Estadio de la Bahía de San Francisco
DESCRIPTION:Primera fase - Grupo J
END:VEVENT
BEGIN:VEVENT
SUMMARY:Portugal vs. Uzbekistán
DTSTART;TZID=America/Bogota:20260623T120000
DTEND;TZID=America/Bogota:20260623T140000
LOCATION:Estadio Houston
DESCRIPTION:Primera fase - Grupo K
END:VEVENT
BEGIN:VEVENT
SUMMARY:Inglaterra vs. Ghana
DTSTART;TZID=America/Bogota:20260623T150000
DTEND;TZID=America/Bogota:20260623T170000
LOCATION:Estadio Boston
DESCRIPTION:Primera fase - Grupo L
END:VEVENT
BEGIN:VEVENT
SUMMARY:Panamá vs. Croacia
DTSTART;TZID=America/Bogota:20260623T180000
DTEND;TZID=America/Bogota:20260623T200000
LOCATION:Estadio de Toronto
DESCRIPTION:Primera fase - Grupo L
END:VEVENT
BEGIN:VEVENT
SUMMARY:Colombia vs. RD Congo
DTSTART;TZID=America/Bogota:20260623T210000
DTEND;TZID=America/Bogota:20260623T230000
LOCATION:Estadio Guadalajara
DESCRIPTION:Primera fase - Grupo K
END:VEVENT
BEGIN:VEVENT
SUMMARY:Suiza vs. Canadá
DTSTART;TZID=America/Bogota:20260624T140000
DTEND;TZID=America/Bogota:20260624T160000
LOCATION:Estadio BC Place Vancouver
DESCRIPTION:Primera fase - Grupo B
END:VEVENT
BEGIN:VEVENT
SUMMARY:Bosnia y Herzegovina vs. Catar
DTSTART;TZID=America/Bogota:20260624T140000
DTEND;TZID=America/Bogota:20260624T160000
LOCATION:Estadio de Seattle
DESCRIPTION:Primera fase - Grupo B
END:VEVENT
BEGIN:VEVENT
SUMMARY:Escocia vs. Brasil
DTSTART;TZID=America/Bogota:20260624T170000
DTEND;TZID=America/Bogota:20260624T190000
LOCATION:Estadio Miami
DESCRIPTION:Primera fase - Grupo C
END:VEVENT
BEGIN:VEVENT
SUMMARY:Marruecos vs. Haití
DTSTART;TZID=America/Bogota:20260624T170000
DTEND;TZID=America/Bogota:20260624T190000
LOCATION:Estadio Atlanta
DESCRIPTION:Primera fase - Grupo C
END:VEVENT
BEGIN:VEVENT
SUMMARY:Chequia vs. México
DTSTART;TZID=America/Bogota:20260624T200000
DTEND;TZID=America/Bogota:20260624T220000
LOCATION:Estadio Ciudad de México
DESCRIPTION:Primera fase - Grupo A
END:VEVENT
BEGIN:VEVENT
SUMMARY:Sudáfrica vs. República de Corea
DTSTART;TZID=America/Bogota:20260624T200000
DTEND;TZID=America/Bogota:20260624T220000
LOCATION:Estadio Monterrey
DESCRIPTION:Primera fase - Grupo A
END:VEVENT
BEGIN:VEVENT
SUMMARY:Curazao vs. Costa de Marfil
DTSTART;TZID=America/Bogota:20260625T150000
DTEND;TZID=America/Bogota:20260625T170000
LOCATION:Estadio Filadelfia
DESCRIPTION:Primera fase - Grupo E
END:VEVENT
BEGIN:VEVENT
SUMMARY:Ecuador vs. Alemania
DTSTART;TZID=America/Bogota:20260625T150000
DTEND;TZID=America/Bogota:20260625T170000
LOCATION:Estadio Nueva York/Nueva Jersey
DESCRIPTION:Primera fase - Grupo E
END:VEVENT
BEGIN:VEVENT
SUMMARY:Japón vs. Suecia
DTSTART;TZID=America/Bogota:20260625T180000
DTEND;TZID=America/Bogota:20260625T200000
LOCATION:Estadio Dallas
DESCRIPTION:Primera fase - Grupo F
END:VEVENT
BEGIN:VEVENT
SUMMARY:Túnez vs. Países Bajos
DTSTART;TZID=America/Bogota:20260625T180000
DTEND;TZID=America/Bogota:20260625T200000
LOCATION:Estadio Kansas City
DESCRIPTION:Primera fase - Grupo F
END:VEVENT
BEGIN:VEVENT
SUMMARY:Turquía vs. EE. UU.
DTSTART;TZID=America/Bogota:20260625T210000
DTEND;TZID=America/Bogota:20260625T230000
LOCATION:Estadio Los Angeles
DESCRIPTION:Primera fase - Grupo D
END:VEVENT
BEGIN:VEVENT
SUMMARY:Paraguay vs. Australia
DTSTART;TZID=America/Bogota:20260625T210000
DTEND;TZID=America/Bogota:20260625T230000
LOCATION:Estadio de la Bahía de San Francisco
DESCRIPTION:Primera fase - Grupo D
END:VEVENT
BEGIN:VEVENT
SUMMARY:Noruega vs. Francia
DTSTART;TZID=America/Bogota:20260626T140000
DTEND;TZID=America/Bogota:20260626T160000
LOCATION:Estadio Boston
DESCRIPTION:Primera fase - Grupo I
END:VEVENT
BEGIN:VEVENT
SUMMARY:Senegal vs. Irak
DTSTART;TZID=America/Bogota:20260626T140000
DTEND;TZID=America/Bogota:20260626T160000
LOCATION:Estadio de Toronto
DESCRIPTION:Primera fase - Grupo I
END:VEVENT
BEGIN:VEVENT
SUMMARY:Islas de Cabo Verde vs. Arabia Saudí
DTSTART;TZID=America/Bogota:20260626T190000
DTEND;TZID=America/Bogota:20260626T210000
LOCATION:Estadio Houston
DESCRIPTION:Primera fase - Grupo H
END:VEVENT
BEGIN:VEVENT
SUMMARY:Uruguay vs. España
DTSTART;TZID=America/Bogota:20260626T190000
DTEND;TZID=America/Bogota:20260626T210000
LOCATION:Estadio Guadalajara
DESCRIPTION:Primera fase - Grupo H
END:VEVENT
BEGIN:VEVENT
SUMMARY:Egipto vs. RI de Irán
DTSTART;TZID=America/Bogota:20260626T220000
DTEND;TZID=America/Bogota:20260627T000000
LOCATION:Estadio de Seattle
DESCRIPTION:Primera fase - Grupo G
END:VEVENT
BEGIN:VEVENT
SUMMARY:Nueva Zelanda vs. Bélgica
DTSTART;TZID=America/Bogota:20260626T220000
DTEND;TZID=America/Bogota:20260627T000000
LOCATION:Estadio BC Place Vancouver
DESCRIPTION:Primera fase - Grupo G
END:VEVENT
BEGIN:VEVENT
SUMMARY:Panamá vs. Inglaterra
DTSTART;TZID=America/Bogota:20260627T160000
DTEND;TZID=America/Bogota:20260627T180000
LOCATION:Estadio Nueva York/Nueva Jersey
DESCRIPTION:Primera fase - Grupo L
END:VEVENT
BEGIN:VEVENT
SUMMARY:Croacia vs. Ghana
DTSTART;TZID=America/Bogota:20260627T160000
DTEND;TZID=America/Bogota:20260627T180000
LOCATION:Estadio Filadelfia
DESCRIPTION:Primera fase - Grupo L
END:VEVENT
BEGIN:VEVENT
SUMMARY:Colombia vs. Portugal
DTSTART;TZID=America/Bogota:20260627T183000
DTEND;TZID=America/Bogota:20260627T203000
LOCATION:Estadio Miami
DESCRIPTION:Primera fase - Grupo K
END:VEVENT
BEGIN:VEVENT
SUMMARY:RD Congo vs. Uzbekistán
DTSTART;TZID=America/Bogota:20260627T183000
DTEND;TZID=America/Bogota:20260627T203000
LOCATION:Estadio Atlanta
DESCRIPTION:Primera fase - Grupo K
END:VEVENT
BEGIN:VEVENT
SUMMARY:Argelia vs. Austria
DTSTART;TZID=America/Bogota:20260627T210000
DTEND;TZID=America/Bogota:20260627T230000
LOCATION:Estadio Kansas City
DESCRIPTION:Primera fase - Grupo J
END:VEVENT
BEGIN:VEVENT
SUMMARY:Jordania vs. Argentina
DTSTART;TZID=America/Bogota:20260627T210000
DTEND;TZID=America/Bogota:20260627T230000
LOCATION:Estadio Dallas
DESCRIPTION:Primera fase - Grupo J
END:VEVENT
END:VCALENDAR